BEGIN:VCALENDAR
VERSION:2.0
PRODID:-//hacksw/handcal//NONSGML v1.0//EN
CALSCALE:GREGORIAN
BEGIN:VEVENT
ORGANIZER;CN=Virtu Financial, LLC:MAILTO:no-reply@gcs-web.com
DTEND:
UID:e43df45e-82ca-4adb-bb0d-29b33020439b
DTSTAMP:1776689126
LOCATION:https://events.q4inc.com/attendee/854396574
DESCRIPTION:Event Details https://ir.virtu.com/events/event-details/virtu-financial-2026-first-quarter-results\n\nWebcast: https://events.q4inc.com/attendee/854396574
URL;VALUE=URI:https://events.q4inc.com/attendee/854396574
SUMMARY:Virtu Financial, LLC - Virtu Financial 2026 First Quarter Results
DTSTART:20260429T120000Z
END:VEVENT
END:VCALENDAR